BEGIN:VCALENDAR
VERSION:2.0
PRODID:-//Mighty Pet - ECPv6.15.17.1//NONSGML v1.0//EN
CALSCALE:GREGORIAN
METHOD:PUBLISH
X-WR-CALNAME:Mighty Pet
X-ORIGINAL-URL:https://www.mightypet.net
X-WR-CALDESC:Events for Mighty Pet
REFRESH-INTERVAL;VALUE=DURATION:PT1H
X-Robots-Tag:noindex
X-PUBLISHED-TTL:PT1H
BEGIN:VTIMEZONE
TZID:America/Detroit
BEGIN:DAYLIGHT
TZOFFSETFROM:-0500
TZOFFSETTO:-0400
TZNAME:EDT
DTSTART:20210314T070000
END:DAYLIGHT
BEGIN:STANDARD
TZOFFSETFROM:-0400
TZOFFSETTO:-0500
TZNAME:EST
DTSTART:20211107T060000
END:STANDARD
BEGIN:DAYLIGHT
TZOFFSETFROM:-0500
TZOFFSETTO:-0400
TZNAME:EDT
DTSTART:20220313T070000
END:DAYLIGHT
BEGIN:STANDARD
TZOFFSETFROM:-0400
TZOFFSETTO:-0500
TZNAME:EST
DTSTART:20221106T060000
END:STANDARD
BEGIN:DAYLIGHT
TZOFFSETFROM:-0500
TZOFFSETTO:-0400
TZNAME:EDT
DTSTART:20230312T070000
END:DAYLIGHT
BEGIN:STANDARD
TZOFFSETFROM:-0400
TZOFFSETTO:-0500
TZNAME:EST
DTSTART:20231105T060000
END:STANDARD
BEGIN:DAYLIGHT
TZOFFSETFROM:-0500
TZOFFSETTO:-0400
TZNAME:EDT
DTSTART:20240310T070000
END:DAYLIGHT
BEGIN:STANDARD
TZOFFSETFROM:-0400
TZOFFSETTO:-0500
TZNAME:EST
DTSTART:20241103T060000
END:STANDARD
BEGIN:DAYLIGHT
TZOFFSETFROM:-0500
TZOFFSETTO:-0400
TZNAME:EDT
DTSTART:20250309T070000
END:DAYLIGHT
BEGIN:STANDARD
TZOFFSETFROM:-0400
TZOFFSETTO:-0500
TZNAME:EST
DTSTART:20251102T060000
END:STANDARD
BEGIN:DAYLIGHT
TZOFFSETFROM:-0500
TZOFFSETTO:-0400
TZNAME:EDT
DTSTART:20260308T070000
END:DAYLIGHT
BEGIN:STANDARD
TZOFFSETFROM:-0400
TZOFFSETTO:-0500
TZNAME:EST
DTSTART:20261101T060000
END:STANDARD
END:VTIMEZONE
BEGIN:VTIMEZONE
TZID:America/Chicago
BEGIN:DAYLIGHT
TZOFFSETFROM:-0600
TZOFFSETTO:-0500
TZNAME:CDT
DTSTART:20240310T080000
END:DAYLIGHT
BEGIN:STANDARD
TZOFFSETFROM:-0500
TZOFFSETTO:-0600
TZNAME:CST
DTSTART:20241103T070000
END:STANDARD
BEGIN:DAYLIGHT
TZOFFSETFROM:-0600
TZOFFSETTO:-0500
TZNAME:CDT
DTSTART:20250309T080000
END:DAYLIGHT
BEGIN:STANDARD
TZOFFSETFROM:-0500
TZOFFSETTO:-0600
TZNAME:CST
DTSTART:20251102T070000
END:STANDARD
BEGIN:DAYLIGHT
TZOFFSETFROM:-0600
TZOFFSETTO:-0500
TZNAME:CDT
DTSTART:20260308T080000
END:DAYLIGHT
BEGIN:STANDARD
TZOFFSETFROM:-0500
TZOFFSETTO:-0600
TZNAME:CST
DTSTART:20261101T070000
END:STANDARD
END:VTIMEZONE
BEGIN:VTIMEZONE
TZID:UTC
BEGIN:STANDARD
TZOFFSETFROM:+0000
TZOFFSETTO:+0000
TZNAME:UTC
DTSTART:20200101T000000
END:STANDARD
END:VTIMEZONE
BEGIN:VEVENT
DTSTART;TZID=America/Detroit:20250913T090000
DTEND;TZID=America/Detroit:20250913T180000
DTSTAMP:20260423T114619
CREATED:20230907T184559Z
LAST-MODIFIED:20250320T161825Z
UID:4569-1757754000-1757786400@www.mightypet.net
SUMMARY:16th Anniversary Celebration!
DESCRIPTION:Save the Date!\n16th Anniversary Celebration\nAnniversary and Pet Expo\nSaturday\, September 13th\, 2025\nPier Pups Dock Diving Competition\, Police K9 Demos\, A Food Truck\, Rally Course\, Q & As\, Workshops\, Door Prizes\, and Giveaways!
URL:https://www.mightypet.net/event/16th-anniversary-celebration/
LOCATION:Mighty Pet\, M&M Plaza\, 1207 8th Avenue\, Menominee\, MI\, 49858\, United States
ATTACH;FMTTYPE=image/jpeg:https://www.mightypet.net/wp-content/uploads/2025/03/0925-MPET-Expo-MWB-v1.jpg
END:VEVENT
BEGIN:VEVENT
DTSTART;TZID=America/Chicago:20250619T160000
DTEND;TZID=America/Chicago:20250619T170000
DTSTAMP:20260423T114619
CREATED:20250527T212323Z
LAST-MODIFIED:20250527T212323Z
UID:4633-1750348800-1750352400@www.mightypet.net
SUMMARY:Co-op Care Class
DESCRIPTION:
URL:https://www.mightypet.net/event/co-op-care-class/
LOCATION:Mighty Pet\, M&M Plaza\, 1207 8th Avenue\, Menominee\, MI\, 49858\, United States
ATTACH;FMTTYPE=image/png:https://www.mightypet.net/wp-content/uploads/2025/05/Co-op-Care-Class.png
END:VEVENT
BEGIN:VEVENT
DTSTART;TZID=America/Chicago:20250611T163000
DTEND;TZID=America/Chicago:20250611T170000
DTSTAMP:20260423T114619
CREATED:20250527T212156Z
LAST-MODIFIED:20250527T212156Z
UID:4629-1749659400-1749661200@www.mightypet.net
SUMMARY:Trick Dog Class
DESCRIPTION:
URL:https://www.mightypet.net/event/trick-dog-class/
LOCATION:Mighty Pet\, M&M Plaza\, 1207 8th Avenue\, Menominee\, MI\, 49858\, United States
ATTACH;FMTTYPE=image/png:https://www.mightypet.net/wp-content/uploads/2025/05/TRICK-DOG-CLASS.png
END:VEVENT
BEGIN:VEVENT
DTSTART;VALUE=DATE:20240809
DTEND;VALUE=DATE:20240811
DTSTAMP:20260423T114619
CREATED:20240227T182911Z
LAST-MODIFIED:20240227T182911Z
UID:4170-1723165200-1723251599@www.mightypet.net
SUMMARY:K9 Golf Outing at Little River Country Club.
DESCRIPTION:K9 Golf Outing is at Little River Country Club. Shotgun start at 11am on August 9th.
URL:https://www.mightypet.net/event/k9-golf-outing-at-little-river-country-club/
LOCATION:Little River Country Club\, N2235 Shore Dr\, Marinette\, MI\, 51453\, United States
END:VEVENT
BEGIN:VEVENT
DTSTART;VALUE=DATE:20240518
DTEND;VALUE=DATE:20240520
DTSTAMP:20260423T114619
CREATED:20240227T182710Z
LAST-MODIFIED:20240227T182710Z
UID:4166-1715994000-1716080399@www.mightypet.net
SUMMARY:Marinette City K9 Walk/Run
DESCRIPTION:Marinette City K9 Walk/Run is May 18th race at 8am at the rec center in Marinette
URL:https://www.mightypet.net/event/marinette-city-k9-walk-run/
LOCATION:Marinette Rec Center
END:VEVENT
BEGIN:VEVENT
DTSTART;TZID=America/Detroit:20230916T080000
DTEND;TZID=America/Detroit:20230916T170000
DTSTAMP:20260423T114619
CREATED:20230907T184559Z
LAST-MODIFIED:20230907T190327Z
UID:3835-1694851200-1694883600@www.mightypet.net
SUMMARY:14th Anniversary Celebration!
DESCRIPTION:Save the Date!\n14th Anniversary Celebration\nAnniversary Sale and Pet Expo\nSaturday\, September 16th\, 2023\n\nSpend $50 or more Sept. 14th – 16th and get a coupon for $14 off to use Sept 18th – Oct 14th. Excludes food and litter. See store for details. \nBooths Open at 9am\nVisit local rescues\, rally demo\, T.O.P. Dog Park\, K9 demos & pet vendor booths. \nPier Pups Dock Diving Competition from 10am-4pm\nTo register your pup\, visit PierPups.com. \nCome for Lunch and Enjoy the Tasty Traveler Food Truck
URL:https://www.mightypet.net/event/14th-anniversary-celebration/
LOCATION:Mighty Pet\, M&M Plaza\, 1207 8th Avenue\, Menominee\, MI\, 49858\, United States
ATTACH;FMTTYPE=image/jpeg:https://www.mightypet.net/wp-content/uploads/2023/09/Mighty-Pet-header-mobile-wb.jpg
END:VEVENT
BEGIN:VEVENT
DTSTART;TZID=America/Detroit:20220917T090000
DTEND;TZID=America/Detroit:20220917T160000
DTSTAMP:20260423T114619
CREATED:20220808T174219Z
LAST-MODIFIED:20220808T174219Z
UID:3430-1663405200-1663430400@www.mightypet.net
SUMMARY:13th Annual Pet Expo
DESCRIPTION:Help us celebrate our 13th Anniversary with our Annual Pet Expo!\nFeaturing:\n\nPier Pups Dock Diving Competition\nPolice K9 Demos\nLocal Pet Rescues\npet vendors\nAnniversary Sale Savings\nand Door Prizes.\n\nFun for both 2 and 4-legged family members! \nRegister for Pier Pups Dock Diving Competition here: https://www.pierpups.com/events-1/mighty-pet-expo-2022-menominee-mi
URL:https://www.mightypet.net/event/13th-annual-pet-expo/
LOCATION:MI
ATTACH;FMTTYPE=image/jpeg:https://www.mightypet.net/wp-content/uploads/2022/08/Mighty-Pet-header-post.jpg
END:VEVENT
BEGIN:VEVENT
DTSTART;TZID=UTC:20220219T110000
DTEND;TZID=UTC:20220219T130000
DTSTAMP:20260423T114619
CREATED:20220119T205411Z
LAST-MODIFIED:20220119T205411Z
UID:3067-1645268400-1645275600@www.mightypet.net
SUMMARY:Greyhound Pets of America-WI Meet & Greet
DESCRIPTION:Come meet the Greyhound Pets of America!
URL:https://www.mightypet.net/event/greyhound-pets-of-america-wi-meet-greet/
LOCATION:MI
ATTACH;FMTTYPE=image/jpeg:https://www.mightypet.net/wp-content/uploads/2022/01/greyhound.jpg
END:VEVENT
BEGIN:VEVENT
DTSTART;TZID=UTC:20220212T110000
DTEND;TZID=UTC:20220212T110000
DTSTAMP:20260423T114619
CREATED:20220119T204312Z
LAST-MODIFIED:20220119T205508Z
UID:3064-1644663600-1644663600@www.mightypet.net
SUMMARY:Dog Powered Sports Workshop
DESCRIPTION:Do you love being active with your dog(s)?! Come learn about Dog Powered Sports!\n\nDog Powered Sports are activities where a dog(s) are in harness and pulling their humans. The human can be on foot\, or on a bike\, skis\, sled\, cart\, etc.\n\nPre-registration & proof of your dog’s current rabies vaccination is required as space is limited. Workshop Fee $10\n\nWhere: Mighty Pet\nMenominee\, MI\n\nPlease contact our trainer Meghan Smith\, CPDT-KA at mightypet.meghan@outlook.com or 906.424.0356
URL:https://www.mightypet.net/event/dog-powered-sports-workshop/
LOCATION:MI
ATTACH;FMTTYPE=image/jpeg:https://www.mightypet.net/wp-content/uploads/2022/01/271427067_10158412408026299_4524426529533044747_n.jpg
END:VEVENT
BEGIN:VEVENT
DTSTART;TZID=UTC:20220127T143000
DTEND;TZID=UTC:20220127T153000
DTSTAMP:20260423T114619
CREATED:20211222T214132Z
LAST-MODIFIED:20220119T202758Z
UID:2979-1643293800-1643297400@www.mightypet.net
SUMMARY:Foundation Obedience ~ Basic Manners Thursdays
DESCRIPTION:Thursdays: 2:30 PM or 4 PM Classes. \nJoin us for our group training class where we will focus on teaching your dog the basics of being a well-mannered pup! Our Certified Professional Dog Trainer\, Meghan Smith\, CPDT-KA will coach you and your dog through learning skills like sit\, down\, stay\, come\, place\, polite greeting\, polite greeting using reward-based techniques. Pre-registration is required\, to get started complete our registration form and Meghan will contact you to get you scheduled: https://form.jotform.com/202575559999175 \nOur classes are “Open Enrollment”\, so once your registration is completed\, you can start!
URL:https://www.mightypet.net/event/foundation-obedience-basic-manners-thursdays/
LOCATION:Mighty Pet\, M&M Plaza\, 1207 8th Avenue\, Menominee\, MI\, 49858\, United States
ATTACH;FMTTYPE=image/jpeg:https://www.mightypet.net/wp-content/uploads/2021/12/20160601_142706-scaled.jpg
END:VEVENT
BEGIN:VEVENT
DTSTART;TZID=UTC:20220122T090000
DTEND;TZID=UTC:20220122T100000
DTSTAMP:20260423T114619
CREATED:20211222T214132Z
LAST-MODIFIED:20220119T202818Z
UID:2500-1642842000-1642845600@www.mightypet.net
SUMMARY:Foundation Obedience ~ Basic Manners Saturdays
DESCRIPTION:Join us for our group training class where we will focus on teaching your dog the basics of being a well-mannered pup! Our Certified Professional Dog Trainer\, Meghan Smith\, CPDT-KA will coach you and your dog through learning skills like sit\, down\, stay\, come\, place\, polite greeting\, polite greeting using reward-based techniques. Pre-registration is required\, to get started complete our registration form and Meghan will contact you to get you scheduled: https://form.jotform.com/202575559999175 \nOur classes are “Open Enrollment”\, so once your registration is completed\, you can start!
URL:https://www.mightypet.net/event/foundation-obedience-basic-manners-saturdays-at-10am/
LOCATION:Mighty Pet\, M&M Plaza\, 1207 8th Avenue\, Menominee\, MI\, 49858\, United States
ATTACH;FMTTYPE=image/jpeg:https://www.mightypet.net/wp-content/uploads/2021/11/DSC_0069-scaled.jpg
END:VEVENT
BEGIN:VEVENT
DTSTART;TZID=UTC:20211111T080000
DTEND;TZID=UTC:20211111T170000
DTSTAMP:20260423T114619
CREATED:20211112T031954Z
LAST-MODIFIED:20211112T031954Z
UID:745-1636617600-1636650000@www.mightypet.net
SUMMARY:Pet Expo
DESCRIPTION:Wow! Mighty Pet is turning 12! That’s 84 in Dog Years! That’s right! Our 12th Anniversary Pet Expo Event is coming to Mighty Pet on location at the M&M Plaza in Menominee\, Thursday through Saturday\, September 16-18! We’ll be having a Pawwwty and waggin’ our tails in celebration of 12 years of family\, fun\, and of course PETS! We’re excited to announce our main attraction for the event\, Pier Pups! You won’t want to miss this unique doggie dock diving competition. Bring your pooch\, and bring a smile in celebration of Mighty Pet’s 12th Anniversary of being your local mom and pup store! Woof!
URL:https://www.mightypet.net/event/pet-expo/
LOCATION:Mighty Pet\, M&M Plaza\, 1207 8th Avenue\, Menominee\, MI\, 49858\, United States
END:VEVENT
END:VCALENDAR